BEGIN:VCALENDAR
VERSION:2.0
PRODID:-//KOLA FM - ECPv5.6.0//NONSGML v1.0//EN
CALSCALE:GREGORIAN
METHOD:PUBLISH
X-WR-CALNAME:KOLA FM
X-ORIGINAL-URL:https://www.kolafm.com
X-WR-CALDESC:Events for KOLA FM
BEGIN:VTIMEZONE
TZID:America/Los_Angeles
BEGIN:DAYLIGHT
TZOFFSETFROM:-0800
TZOFFSETTO:-0700
TZNAME:PDT
DTSTART:20260308T100000
END:DAYLIGHT
BEGIN:STANDARD
TZOFFSETFROM:-0700
TZOFFSETTO:-0800
TZNAME:PST
DTSTART:20261101T090000
END:STANDARD
END:VTIMEZONE
BEGIN:VEVENT
DTSTART;VALUE=DATE:20260424
DTEND;VALUE=DATE:20260425
DTSTAMP:20260424T092140
CREATED:20260312T183100Z
LAST-MODIFIED:20260312T195250Z
UID:93728-1776988800-1777075199@www.kolafm.com
SUMMARY:Annual Awards Gala in Ontario
DESCRIPTION:Time for Change Foundation provides housing and comprehensive wraparound services for low-income individuals and families\, including women\, men\, and children. We serve people from diverse backgrounds – including those experiencing homelessness\, incarceration\, and addiction — through supportive housing\, strength-based case management\, our Work to Win Employment Development Program\, and more. Each year\, we host our Annual Awards Gala to celebrate champions of social change and the resilient individuals whose lives reflect the power of opportunity and support. Our 24th Annual Awards Gala will feature dinner\, a silent auction\, and engaging opportunities to invest in the life-changing work of the foundation. Join us on April 24th at the Doubletree By Hilton Hotel in Ontario \nFor Tickets and Sponsorship info – CLICK HERE
URL:https://www.kolafm.com/event/annual-awards-gala/
CATEGORIES:Community
ATTACH;FMTTYPE=image/jpeg:https://dehayf5mhw1h7.cloudfront.net/wp-content/uploads/sites/1959/2025/03/04112052/timeforchange_logo.jpg
END:VEVENT
BEGIN:VEVENT
DTSTART;TZID=America/Los_Angeles:20260425T120000
DTEND;TZID=America/Los_Angeles:20260425T140000
DTSTAMP:20260424T092140
CREATED:20230728T173156Z
LAST-MODIFIED:20260410T223359Z
UID:76211-1777118400-1777125600@www.kolafm.com
SUMMARY:WSS - Corona
DESCRIPTION:Join the KOLA Prize Caravan at WSS in Corona for their spring warehouse sale event on Saturday\, April 25th from 12 p.m. to 2 p.m.! Save big on thousands of styles from top name brands!\nFor store information\, visit ShopWSS.com!
URL:https://www.kolafm.com/event/wss-corona/
LOCATION:WSS – Corona\, 1107 W 6th St\, Corona\, CA\, 92882\, United States
CATEGORIES:Prize Caravan
ATTACH;FMTTYPE=image/png:https://dehayf5mhw1h7.cloudfront.net/wp-content/uploads/sites/1959/2025/06/05235450/new-wss-logo-2025.png
GEO:33.8781496;-117.5836184
X-APPLE-STRUCTURED-LOCATION;VALUE=URI;X-ADDRESS=WSS – Corona 1107 W 6th St Corona CA 92882 United States;X-APPLE-RADIUS=500;X-TITLE=1107 W 6th St:geo:-117.5836184,33.8781496
END:VEVENT
BEGIN:VEVENT
DTSTART;VALUE=DATE:20260426
DTEND;VALUE=DATE:20260427
DTSTAMP:20260424T092140
CREATED:20260419T181511Z
LAST-MODIFIED:20260420T170514Z
UID:83535-1777161600-1777247999@www.kolafm.com
SUMMARY:Walk For Kids At Fontana Park April 26th
DESCRIPTION:The Walk for Kids™ is our largest event of the year\, bringing the community together to support children and families who rely on the compassionate care and critical services of the Inland Empire Ronald McDonald House. Each step of this family-friendly 5K represents our community’s commitment to keeping families close to the life-saving medical care their children need. Register as an individual walker or create a team! \n\nCLICK HERE TO REGISTER \n 
URL:https://www.kolafm.com/event/walk-for-kids-at-fontana-park-april-28th/
CATEGORIES:Community
ATTACH;FMTTYPE=image/jpeg:https://dehayf5mhw1h7.cloudfront.net/wp-content/uploads/sites/1959/2024/03/18181511/ronaldmcdonaldwalk_logo-e1739301016222.jpg
END:VEVENT
BEGIN:VEVENT
DTSTART;VALUE=DATE:20260426
DTEND;VALUE=DATE:20260427
DTSTAMP:20260424T092140
CREATED:20260413T201921Z
LAST-MODIFIED:20260414T164813Z
UID:99776-1777161600-1777247999@www.kolafm.com
SUMMARY:Redlands Footlighters
DESCRIPTION:Don’t miss the Redlands Footlighters production of William Shakespeare‘s The Merry Wives of Windsor – running till April 26th. Set in a stylized 1950s New York that feels straight out of a black-and-white television comedy\, this production reimagines Shakespeare’s classic tale with the snap\, sparkle\, and charm of the golden age of sitcoms!\nFor tickets  CLICK HERE  or call the box office: (909) 793-2909
URL:https://www.kolafm.com/event/redlands-footlighters/
CATEGORIES:Community
ATTACH;FMTTYPE=image/jpeg:https://dehayf5mhw1h7.cloudfront.net/wp-content/uploads/sites/1959/2025/09/26125840/footlighters_logo.jpg
END:VEVENT
BEGIN:VEVENT
DTSTART;TZID=America/Los_Angeles:20260426T120000
DTEND;TZID=America/Los_Angeles:20260426T140000
DTSTAMP:20260424T092140
CREATED:20230217T223351Z
LAST-MODIFIED:20260410T223031Z
UID:71024-1777204800-1777212000@www.kolafm.com
SUMMARY:WSS - Moreno Valley
DESCRIPTION:Join the KOLA Prize Caravan at WSS in Moreno Valley for their spring warehouse sale event on Sunday\, April 26th from 12 p.m. to 2 p.m.! Save big on thousands of styles from top name brands!\nFor store information\, visit ShopWSS.com!
URL:https://www.kolafm.com/event/wss-moreno-valley/
LOCATION:WSS – Moreno Valley\, 24175 Hemlock Ave.\, Moreno Valley\, CA\, 92557\, United States
CATEGORIES:Prize Caravan
ATTACH;FMTTYPE=image/png:https://dehayf5mhw1h7.cloudfront.net/wp-content/uploads/sites/1959/2025/06/05235450/new-wss-logo-2025.png
GEO:33.9417586;-117.2406508
X-APPLE-STRUCTURED-LOCATION;VALUE=URI;X-ADDRESS=WSS – Moreno Valley 24175 Hemlock Ave. Moreno Valley CA 92557 United States;X-APPLE-RADIUS=500;X-TITLE=24175 Hemlock Ave.:geo:-117.2406508,33.9417586
END:VEVENT
BEGIN:VEVENT
DTSTART;TZID=America/Los_Angeles:20260429T170000
DTEND;TZID=America/Los_Angeles:20260429T190000
DTSTAMP:20260424T092140
CREATED:20260410T200025Z
LAST-MODIFIED:20260410T220645Z
UID:105337-1777482000-1777489200@www.kolafm.com
SUMMARY:EōS Fitness - San Bernardino
DESCRIPTION:  \nJoin Jesse Duran and the KOLA Prize Caravan at the new EōS Fitness in San Bernardino on Wednesday\, April 29th\, from 5 p.m. to 7 p.m.! Located on 555 E Hospitality Lane!\nGet motivated with a personal trainer\, work out watching big screen movies in their exclusive moveōs cinema and mix it up with high-energy group fitness classes including cycling and strength training!\nSign up today at JoinEOS.com!
URL:https://www.kolafm.com/event/eos-fitness-san-bernardino/
LOCATION:EōS Fitness – San Bernardino\, 555 E Hospitality Ln\, San Bernardino\, CA\, 92408\, United States
CATEGORIES:Prize Caravan
ATTACH;FMTTYPE=image/png:https://dehayf5mhw1h7.cloudfront.net/wp-content/uploads/sites/1959/2025/01/27211056/800x451-2-24-25.png
END:VEVENT
BEGIN:VEVENT
DTSTART;VALUE=DATE:20260509
DTEND;VALUE=DATE:20260510
DTSTAMP:20260424T092140
CREATED:20260330T173503Z
LAST-MODIFIED:20260413T203240Z
UID:105076-1778284800-1778371199@www.kolafm.com
SUMMARY:Mental Health "Walk/Fair" at San Bernardino Valley College
DESCRIPTION:Keys 2 Awareness brings awareness to mental health through connecting people and organizations to various resources… providing the Keys 2 Awareness in a shameless environment. We are hosting our third Mental Health “Walk/Fair” on Saturday\, May 9th at San Bernardino Valley College. For more information on this FREE event\, CLICK HERE
URL:https://www.kolafm.com/event/105076/
CATEGORIES:Community
ATTACH;FMTTYPE=image/png:https://dehayf5mhw1h7.cloudfront.net/wp-content/uploads/sites/1959/2026/03/30103413/keys2_logo-e1774892515439.png
END:VEVENT
BEGIN:VEVENT
DTSTART;TZID=America/Los_Angeles:20260509T170000
DTEND;TZID=America/Los_Angeles:20260509T190000
DTSTAMP:20260424T092140
CREATED:20260410T224145Z
LAST-MODIFIED:20260414T170822Z
UID:105417-1778346000-1778353200@www.kolafm.com
SUMMARY:LA County Fair 2026
DESCRIPTION:The LA County Fair is back\, celebrating its 104th anniversary May 7-31. It’s time for corn dogs and cotton candy\, carnival rides and furry four-legged barnyard friends! Don’t miss the country’s largest county fair and the best entertainment in Southern California.\nJoin Melissa Chavez and the KOLA Prize Caravan at the LA County Fair on Friday\, May 9th from 5 p.m. to 7 p.m.!\nVisit LACountyFair.com for ticket and concert information!
URL:https://www.kolafm.com/event/la-county-fair-2026/
LOCATION:Pomona Fairplex\, 1101 W McKinley Ave.\, Pomona\, CA\, 91768\, United States
CATEGORIES:Prize Caravan
ATTACH;FMTTYPE=image/png:https://dehayf5mhw1h7.cloudfront.net/wp-content/uploads/sites/1959/2026/03/17154011/lacf2026-war.png
END:VEVENT
BEGIN:VEVENT
DTSTART;VALUE=DATE:20260513
DTEND;VALUE=DATE:20260514
DTSTAMP:20260424T092140
CREATED:20260417T121141Z
LAST-MODIFIED:20260417T121102Z
UID:77927-1778630400-1778716799@www.kolafm.com
SUMMARY:Pink on Parade T-Shirt Design Contest
DESCRIPTION:Pink on Parade is Riverside’s annual breast cancer awareness walk benefitting The Pink Ribbon Place\, our local cancer resource center. Join our POP Tee design contest and raise breast cancer awareness in our community! The winning submission will inspire a three-color design for 2026’s official Pink on Parade T-shirt! Submission deadline is May 13th.  For more info and to submit your design idea- CLICK HERE
URL:https://www.kolafm.com/event/riversides-breast-cancer-awareness-walk/
CATEGORIES:Community
ATTACH;FMTTYPE=image/jpeg:https://dehayf5mhw1h7.cloudfront.net/wp-content/uploads/sites/1959/2023/09/20124557/Pink_On_Parade_2023_logo-e1695239173953.jpg
END:VEVENT
BEGIN:VEVENT
DTSTART;VALUE=DATE:20260517
DTEND;VALUE=DATE:20260518
DTSTAMP:20260424T092140
CREATED:20260415T194512Z
LAST-MODIFIED:20260415T200227Z
UID:103173-1778976000-1779062399@www.kolafm.com
SUMMARY:Low Cost Veterinary Services
DESCRIPTION:The Humane Society of San Bernardino Valley offers low cost veterinary services to the community\, including low cost vaccines\, vet exam\, basic wellness\, and spay and neuter surgery.  All services are available Monday  – Friday by appointment. The HSSBV also offers a walk in only (no appointment needed) vaccine clinic on the first and third Saturday of each month.  For more information\, visit their website at hssbv.org or call 909-386-1400
URL:https://www.kolafm.com/event/low-cost-veterinary-services/
CATEGORIES:Community
ATTACH;FMTTYPE=image/jpeg:https://dehayf5mhw1h7.cloudfront.net/wp-content/uploads/sites/1959/2023/01/06214045/HumaneSoc_SB_logo-e1673041333550.jpg
END:VEVENT
BEGIN:VEVENT
DTSTART;VALUE=DATE:20260530
DTEND;VALUE=DATE:20260531
DTSTAMP:20260424T092140
CREATED:20260309T174203Z
LAST-MODIFIED:20260309T174303Z
UID:83667-1780099200-1780185599@www.kolafm.com
SUMMARY:Riverside’s Inland Empire Pride Festival
DESCRIPTION:Our 4th Annual Riverside Pride returns Saturday\, May 30th! It will be a day to be in community! Featuring local vendors\, tasty food\, powerful art\, engaging workshops\, and incredible entertainment all celebrating LGBTQ+ joy and resilience. For free tickets  CLICK HERE  Want to be part of the celebration? Become a vendor | [Click here] Explore sponsorship | [Click here] Apply to perform | [Click here] Showcase your art | [Click here] \n\n 
URL:https://www.kolafm.com/event/trans-day-of-visibility-rally-march-on-march-30th/
CATEGORIES:Community
ATTACH;FMTTYPE=image/jpeg:https://dehayf5mhw1h7.cloudfront.net/wp-content/uploads/sites/1959/2024/03/21103430/RiversidePride_logo.jpg
END:VEVENT
BEGIN:VEVENT
DTSTART;VALUE=DATE:20260613
DTEND;VALUE=DATE:20260614
DTSTAMP:20260424T092140
CREATED:20260327T172943Z
LAST-MODIFIED:20260327T181401Z
UID:105035-1781308800-1781395199@www.kolafm.com
SUMMARY:Annual C.O.P.S. Flag Football Tournament
DESCRIPTION:Southern California Concerns of Police Survivors (C.O.P.S.) provides resources to assist in the rebuilding of the lives of surviving families of law enforcement officers killed in the line-of-duty. You can support the cause by attending the Sergeant Dominic Vaca Memorial Football Tournament in Yucaipa on Saturday\, June 13th beginning at 8am. The football tournament entry is FREE – there is a parking donation of $5 cash\, Venmo\, Zelle at the gate.
URL:https://www.kolafm.com/event/annual-c-o-p-s-flag-football-tournament/
CATEGORIES:Community
ATTACH;FMTTYPE=image/png:https://dehayf5mhw1h7.cloudfront.net/wp-content/uploads/sites/1959/2026/02/23111124/sgt_vaca_logo1.png
END:VEVENT
BEGIN:VEVENT
DTSTART;VALUE=DATE:20260620
DTEND;VALUE=DATE:20260621
DTSTAMP:20260424T092140
CREATED:20250122T195039Z
LAST-MODIFIED:20260122T183927Z
UID:95395-1781913600-1781999999@www.kolafm.com
SUMMARY:Jade's Furry Friends Annual 5K in Rancho Cucamonga
DESCRIPTION:Jade’s Furry Friends annual 5K is coming up Saturday\, June 20th. Jade’s Furry Friends 5K is an event where animal lovers come together to help save the lives of homeless animals in our area. 100% of the proceeds will go to local shelters (Cats and Comics and No Stray Left Behind) to help fund food and supplies as well as veterinarian care\, medical assistance and spaying/neutering procedures. REGISTER NOW –  CLICK HERE
URL:https://www.kolafm.com/event/jades-furry-friends-annual-5k/
CATEGORIES:Community
ATTACH;FMTTYPE=image/jpeg:https://dehayf5mhw1h7.cloudfront.net/wp-content/uploads/sites/1959/2025/01/22195039/jades5k_logo.jpg
END:VEVENT
END:VCALENDAR